BEGIN:VCALENDAR
VERSION:2.0
PRODID:Imitheme.com 
BEGIN:VEVENT
UID:20260422T095253711920244
DTSTAMP;TZID=UTC:2026-04-22 09:52:53
DTSTART;TZID=America/Los_Angeles:20260422T095253
DTEND;TZID=America/Los_Angeles:20260422T095253
SUMMARY:Nuestro Grupo de Oración (Evento Aplazado)
LOCATION:
DESCRIPTION:Te invitamos este 23 de abril de 2026 a nuestro grupo de oración presencial en la parroquia Nuestra Señora de Torcorama. ATENCIÓN EVENTO APLAZADO PENDIENTE CONFIRMACIÓN
URL:https://santosangeles.com.co/eventer/nuestro-grupo-de-oracion-evento-aplazado/
END:VEVENT
END:VCALENDAR
